BEGIN:VCALENDAR
VERSION:2.0
PRODID:-//Intand Corporation//Tandem//EN
METHOD:PUBLISH
BEGIN:VEVENT
DTSTAMP:20260422T190945Z
DTSTART:20260530T160000Z
DTEND:20260530T173000Z
TRANSP:TRANSPARENT
PRIORITY:0
SUMMARY:Varsity Softball Districts AWAY vs. Cabrini
LOCATION:Gabriel Richard Catholic High School
DESCRIPTION:Varsity Softball Districts AWAY vs. Cabrini. \n\n\nGroups:\nVa
 rsity Softball ()\n\nLocation:\nGabriel Richard Catholic High School\n\n
URL;VALUE=URI:http://icbs.icbc.tandem.co/index.php?type=view&action=event&
 id=21346
CREATED:20260422T120515Z
LAST-MODIFIED:20260422T120515Z
UID:event-21346-interbaptist@intand.com
END:VEVENT
END:VCALENDAR
