BEGIN:VCALENDAR
VERSION:2.0
PRODID:-//Intand Corporation//Tandem//EN
METHOD:PUBLISH
BEGIN:VEVENT
DTSTAMP:20260422T193334Z
DTSTART:20270824T220000Z
DTEND:20270825T000000Z
TRANSP:TRANSPARENT
PRIORITY:0
SUMMARY:ICBS New Parent Orientation Meeting
LOCATION:Church > Church Gym\, Chapel\, & Kitchen > Chapel
DESCRIPTION:Orientation meeting for all parents of kindergarten and new st
 udents for the 27-28 school year (parents only\, please). \n\n\nLocation:\
 nChurch > Church Gym\, Chapel\, & Kitchen > Chapel\n\n
X-ALT-DESC;FMTTYPE=text/html:<!doctype html><html><body><span>Orientation 
 meeting for all parents of kindergarten and new students for the 27-28 sch
 ool year (parents only\, please). </span><br /><br />Location:<br />Church
  > Church Gym\, Chapel\, & Kitchen > Chapel<br /></body></html>
URL;VALUE=URI:http://icbs.icbc.tandem.co/index.php?type=view&action=event&
 id=21125
CREATED:20260317T143812Z
LAST-MODIFIED:20260317T143812Z
UID:event-21125-interbaptist@intand.com
END:VEVENT
END:VCALENDAR
