BEGIN:VCALENDAR
VERSION:2.0
PRODID:-//Intand Corporation//Tandem//EN
METHOD:PUBLISH
BEGIN:VEVENT
DTSTAMP:20260423T004629Z
DTSTART:20271210T000000Z
DTEND:20271210T020000Z
TRANSP:TRANSPARENT
PRIORITY:0
SUMMARY:Music Ministry Rehearsal
LOCATION:Inter-City Baptist Church & Ministries > Church > Auditorium & At
 rium Area > Auditorium\, Inter-City Baptist Church & Ministries > Church >
  Auditorium & Atrium Area > Parlor
DESCRIPTION:The choir and orchestra will rehearse for the Christmas Concer
 t.\n\n\nLocations:\nInter-City Baptist Church & Ministries > Church > Audi
 torium & Atrium Area > Auditorium\nInter-City Baptist Church & Ministries 
 > Church > Auditorium & Atrium Area > Parlor\n\n
URL;VALUE=URI:http://icbs.icbc.tandem.co/index.php?type=view&action=event&
 id=20943
CREATED:20260305T221923Z
LAST-MODIFIED:20260310T153113Z
UID:event_request-20943-interbaptist@intand.com
END:VEVENT
END:VCALENDAR
