BEGIN:VCALENDAR
VERSION:2.0
PRODID:-//Intand Corporation//Tandem//EN
METHOD:PUBLISH
BEGIN:VEVENT
DTSTAMP:20260423T004113Z
DTSTART:20271212T230000Z
DTEND:20271213T001500Z
TRANSP:TRANSPARENT
PRIORITY:0
SUMMARY:Christmas Concert
LOCATION:Inter-City Baptist Church & Ministries > Church > Auditorium & At
 rium Area > Parlor\, Inter-City Baptist Church & Ministries > Church > Aud
 itorium & Atrium Area > Nursery Rooms\, Inter-City Baptist Church & Minist
 ries > Church > Auditori
DESCRIPTION:The church choir and orchestra will present their annual Chris
 tmas Concert.\n\n\nLocations:\nInter-City Baptist Church & Ministries > Ch
 urch > Auditorium & Atrium Area > Parlor\nInter-City Baptist Church & Mini
 stries > Church > Auditorium & Atrium Area > Nursery Rooms\nInter-City Bap
 tist Church & Ministries > Church > Auditorium & Atrium Area > Atrium Balc
 ony\nInter-City Baptist Church & Ministries > Church > Auditorium & Atrium
  Area > Atrium Main Floor\nInter-City Baptist Church & Ministries > Church
  > Auditorium & Atrium Area > Auditorium\n\n
URL;VALUE=URI:http://icbs.icbc.tandem.co/index.php?type=view&action=event&
 id=20744
CREATED:20260303T163934Z
LAST-MODIFIED:20260305T151935Z
UID:event_request-20744-interbaptist@intand.com
END:VEVENT
END:VCALENDAR
