BEGIN:VCALENDAR
VERSION:2.0
PRODID:-//Intand Corporation//Tandem//EN
METHOD:PUBLISH
BEGIN:VEVENT
DTSTAMP:20260422T222925Z
DTSTART:20270603T090000Z
DTEND:20270605T020000Z
TRANSP:TRANSPARENT
PRIORITY:0
SUMMARY:6th Grade Class Trip
LOCATION:Creation Museum
DESCRIPTION:The 6th grade class will be going to USAF and Creation museums
 . Information available from Mrs. Harrison.\n\n\nLocation:\nCreation Museu
 m\n\n
URL;VALUE=URI:http://icbs.icbc.tandem.co/index.php?type=view&action=event&
 id=20297
CREATED:20260128T190436Z
LAST-MODIFIED:20260128T190436Z
UID:event-20297-interbaptist@intand.com
END:VEVENT
END:VCALENDAR
