BEGIN:VCALENDAR
VERSION:2.0
PRODID:-//Intand Corporation//Tandem//EN
METHOD:PUBLISH
BEGIN:VEVENT
DTSTAMP:20260422T170445Z
DTSTART:20260414T185500Z
DTEND:20260414T193000Z
TRANSP:TRANSPARENT
PRIORITY:0
SUMMARY:Elem. Choir
LOCATION:Church > Church Gym\, Chapel\, & Kitchen > Chapel
DESCRIPTION:The Elementary Choir\, led by Rachel Crane\, will be in the ch
 apel for class.\n\n\nLocation:\nChurch > Church Gym\, Chapel\, & Kitchen >
  Chapel\n\n
URL;VALUE=URI:http://icbs.icbc.tandem.co/index.php?type=view&action=event&
 id=20267
CREATED:20260128T142809Z
LAST-MODIFIED:20260128T142809Z
UID:event-20267-interbaptist@intand.com
END:VEVENT
END:VCALENDAR
