BEGIN:VCALENDAR
VERSION:2.0
PRODID:-//Intand Corporation//Tandem//EN
METHOD:PUBLISH
BEGIN:VEVENT
DTSTAMP:20260422T194045Z
DTSTART:20270412T121500Z
DTEND:20270412T193000Z
TRANSP:TRANSPARENT
PRIORITY:0
SUMMARY:ICBS Resumes 
LOCATION:Inter-City Baptist Church & Ministries > Elementary School\, Inte
 r-City Baptist Church & Ministries > High School
DESCRIPTION:Locations:\nInter-City Baptist Church & Ministries > Elementar
 y School\nInter-City Baptist Church & Ministries > High School\n\n
URL;VALUE=URI:http://icbs.icbc.tandem.co/index.php?type=view&action=event&
 id=19474
CREATED:20251023T132608Z
LAST-MODIFIED:20251023T132608Z
UID:event-19474-interbaptist@intand.com
END:VEVENT
END:VCALENDAR
