BEGIN:VCALENDAR
VERSION:2.0
PRODID:-//Intand Corporation//Tandem//EN
METHOD:PUBLISH
BEGIN:VEVENT
DTSTAMP:20260422T193949Z
DTSTART:20261130T131500Z
DTEND:20261130T203000Z
TRANSP:TRANSPARENT
PRIORITY:0
SUMMARY:ICBS Resumes 
LOCATION:Inter-City Baptist Church & Ministries > High School\, Inter-City
  Baptist Church & Ministries > Elementary School
DESCRIPTION:Locations:\nInter-City Baptist Church & Ministries > High Scho
 ol\nInter-City Baptist Church & Ministries > Elementary School\n\n
URL;VALUE=URI:http://icbs.icbc.tandem.co/index.php?type=view&action=event&
 id=19472
CREATED:20251023T132608Z
LAST-MODIFIED:20251023T132608Z
UID:event-19472-interbaptist@intand.com
END:VEVENT
END:VCALENDAR
