BEGIN:VCALENDAR
VERSION:2.0
PRODID:-//Intand Corporation//Tandem//EN
METHOD:PUBLISH
BEGIN:VEVENT
DTSTAMP:20260422T222813Z
DTSTART;VALUE=DATE:20260810
DTEND;VALUE=DATE:20260811
TRANSP:TRANSPARENT
PRIORITY:0
SUMMARY:Church Family Daze
LOCATION:4700 Allen Rd
DESCRIPTION:Join us for fun and fellowship as we participate in activities
  around our community and gather each evening for worship. \n\n\nLocation:
 \n4700 Allen Rd\n\n
X-ALT-DESC;FMTTYPE=text/html:<!doctype html><html><body><span>Join us for 
 fun and fellowship as we participate in activities around our community an
 d gather each evening for worship. </span><br /><br />Location:<br />4700 
 Allen Rd<br /></body></html>
URL;VALUE=URI:http://icbs.icbc.tandem.co/index.php?type=view&action=event&
 id=18824
CREATED:20250915T170508Z
LAST-MODIFIED:20250915T170508Z
UID:event-18824-interbaptist@intand.com
END:VEVENT
END:VCALENDAR
