BEGIN:VCALENDAR
VERSION:2.0
PRODID:-//Intand Corporation//Tandem//EN
METHOD:PUBLISH
BEGIN:VEVENT
DTSTAMP:20260422T193948Z
DTSTART:20260629T000000Z
DTEND:20260629T020000Z
TRANSP:TRANSPARENT
PRIORITY:0
SUMMARY:Summer Fest
LOCATION:Inter-City Baptist Church & Ministries
DESCRIPTION:Location:\nInter-City Baptist Church & Ministries\n\n
URL;VALUE=URI:http://icbs.icbc.tandem.co/index.php?type=view&action=event&
 id=18569
CREATED:20250820T185818Z
LAST-MODIFIED:20250924T133013Z
UID:event_request-18569-interbaptist@intand.com
END:VEVENT
END:VCALENDAR
