BEGIN:VCALENDAR
VERSION:2.0
PRODID:-//Intand Corporation//Tandem//EN
METHOD:PUBLISH
BEGIN:VEVENT
DTSTAMP:20260422T193814Z
DTSTART;VALUE=DATE:20260612
DTEND;VALUE=DATE:20260613
TRANSP:TRANSPARENT
PRIORITY:0
SUMMARY:ICBS Report Cards Issued
LOCATION:Inter-City Baptist Church & Ministries > High School
DESCRIPTION:Report cards will be sent home today.  \n\n\nLocation:\nInter-
 City Baptist Church & Ministries > High School\n\n
URL;VALUE=URI:http://icbs.icbc.tandem.co/index.php?type=view&action=event&
 id=16972
CREATED:20250203T170410Z
LAST-MODIFIED:20250203T170410Z
UID:event-16972-interbaptist@intand.com
END:VEVENT
END:VCALENDAR
