BEGIN:VCALENDAR
VERSION:2.0
PRODID:-//Intand Corporation//Tandem//EN
METHOD:PUBLISH
BEGIN:VEVENT
DTSTAMP:20260422T193809Z
DTSTART:20260605T123000Z
DTEND:20260605T140000Z
TRANSP:TRANSPARENT
PRIORITY:0
SUMMARY:ICBES Awards Assembly
LOCATION:Inter-City Baptist Church & Ministries > Church > Auditorium & At
 rium Area > Auditorium
DESCRIPTION:Elementary awards assembly in the church auditorium. \n\n\nLoc
 ation:\nInter-City Baptist Church & Ministries > Church > Auditorium & Atr
 ium Area > Auditorium\n\n
X-ALT-DESC;FMTTYPE=text/html:<!doctype html><html><body><span>Elementary a
 wards assembly in the church auditorium. </span><br /><br />Location:<br /
 >Inter-City Baptist Church & Ministries > Church > Auditorium & Atrium Are
 a > Auditorium<br /></body></html>
URL;VALUE=URI:http://icbs.icbc.tandem.co/index.php?type=view&action=event&
 id=16963
CREATED:20250203T165729Z
LAST-MODIFIED:20250205T163348Z
UID:event_request-16963-interbaptist@intand.com
END:VEVENT
END:VCALENDAR
