BEGIN:VCALENDAR
VERSION:2.0
PRODID:-//Intand Corporation//Tandem//EN
METHOD:PUBLISH
BEGIN:VEVENT
DTSTAMP:20260422T222230Z
DTSTART;VALUE=DATE:20261010
DTEND;VALUE=DATE:20261011
TRANSP:TRANSPARENT
PRIORITY:0
SUMMARY:Teen Activity Placeholder
LOCATION:Inter-City Baptist Church & Ministries > Placeholder 2
DESCRIPTION:Location:\nInter-City Baptist Church & Ministries > Placeholde
 r 2\n\n
URL;VALUE=URI:http://icbs.icbc.tandem.co/index.php?type=view&action=event&
 id=16903
CREATED:20250127T184739Z
LAST-MODIFIED:20250127T190532Z
UID:event-16903-interbaptist@intand.com
END:VEVENT
END:VCALENDAR
