BEGIN:VCALENDAR
VERSION:2.0
PRODID:-//Intand Corporation//Tandem//EN
METHOD:PUBLISH
BEGIN:VEVENT
DTSTAMP:20260422T221453Z
DTSTART;VALUE=DATE:20260808
DTEND;VALUE=DATE:20260809
TRANSP:TRANSPARENT
PRIORITY:0
SUMMARY:Teen Activity Placeholder
LOCATION:Inter-City Baptist Church & Ministries > Placeholder 2
DESCRIPTION:Location:\nInter-City Baptist Church & Ministries > Placeholde
 r 2\n\n
URL;VALUE=URI:http://icbs.icbc.tandem.co/index.php?type=view&action=event&
 id=16901
CREATED:20250127T184659Z
LAST-MODIFIED:20250127T190428Z
UID:event-16901-interbaptist@intand.com
END:VEVENT
END:VCALENDAR
