BEGIN:VCALENDAR
VERSION:2.0
PRODID:-//Intand Corporation//Tandem//EN
METHOD:PUBLISH
BEGIN:VEVENT
DTSTAMP:20260422T193815Z
DTSTART;VALUE=DATE:20270121
DTEND;VALUE=DATE:20270122
TRANSP:TRANSPARENT
PRIORITY:0
SUMMARY:Spirit Week
LOCATION:Inter-City Baptist Church & Ministries > High School
DESCRIPTION:Students in grades 7-12 will participate in spirit week. \n\nL
 ocation:\nInter-City Baptist Church & Ministries > High School\n\n
X-ALT-DESC;FMTTYPE=text/html:<!doctype html><html><body><span>Students in 
 grades 7-12 will participate in spirit week. </span><br /><br />Location:<
 br />Inter-City Baptist Church & Ministries > High School<br /></body></ht
 ml>
URL;VALUE=URI:http://icbs.icbc.tandem.co/index.php?type=view&action=event&
 id=10794
CREATED:20230126T183311Z
LAST-MODIFIED:20230126T183311Z
UID:event-10794-interbaptist@intand.com
END:VEVENT
END:VCALENDAR
